BEGIN:VCALENDAR
VERSION:2.0
PRODID:-//https://fehervaribalett.hu//HU
BEGIN:VEVENT
DTSTART:20241105T190000Z
DTEND:20241105T203000Z
DTSTAMP:20240821T210439Z
UID:20240821T210439Z-106-calendar_event
SUMMARY:Kövek • BUDAPESTI BEMUTATÓ
DESCRIPTION:
URL:https://fehervaribalett.hu/kovek-budapesti-bemutato
LOCATION:Müpa (1095 Budapest, Komor Marcell u. 1.)
END:VEVENT
END:VCALENDAR
